BEGIN:VCALENDAR
VERSION:2.0
PRODID:-//Travelers - ECPv6.15.12.2//NONSGML v1.0//EN
CALSCALE:GREGORIAN
METHOD:PUBLISH
X-ORIGINAL-URL:https://travelers.site.findly.com
X-WR-CALDESC:Events for Travelers
REFRESH-INTERVAL;VALUE=DURATION:PT1H
X-Robots-Tag:noindex
X-PUBLISHED-TTL:PT1H
BEGIN:VTIMEZONE
TZID:America/New_York
BEGIN:DAYLIGHT
TZOFFSETFROM:-0500
TZOFFSETTO:-0400
TZNAME:EDT
DTSTART:20210314T070000
END:DAYLIGHT
BEGIN:STANDARD
TZOFFSETFROM:-0400
TZOFFSETTO:-0500
TZNAME:EST
DTSTART:20211107T060000
END:STANDARD
BEGIN:DAYLIGHT
TZOFFSETFROM:-0500
TZOFFSETTO:-0400
TZNAME:EDT
DTSTART:20220313T070000
END:DAYLIGHT
BEGIN:STANDARD
TZOFFSETFROM:-0400
TZOFFSETTO:-0500
TZNAME:EST
DTSTART:20221106T060000
END:STANDARD
BEGIN:DAYLIGHT
TZOFFSETFROM:-0500
TZOFFSETTO:-0400
TZNAME:EDT
DTSTART:20230312T070000
END:DAYLIGHT
BEGIN:STANDARD
TZOFFSETFROM:-0400
TZOFFSETTO:-0500
TZNAME:EST
DTSTART:20231105T060000
END:STANDARD
END:VTIMEZONE
BEGIN:VEVENT
DTSTART;TZID=America/New_York:20220413T090000
DTEND;TZID=America/New_York:20220413T180000
DTSTAMP:20260425T223725
CREATED:20220222T191323Z
LAST-MODIFIED:20250721T175258Z
UID:19656-1649840400-1649872800@travelers.site.findly.com
SUMMARY:Bender Disability Virtual Career Fair - Connecting Job Seekers and Employers
DESCRIPTION:Connect with members of the Travelers team to learn more about our career opportunities. This event is open to experienced and early career jobseekers with disabilities nationwide.
URL:https://travelers.site.findly.com/event/bender-disability-virtual-career-fair-connecting-job-seekers-and-employers-2/
LOCATION:Connecticut
CATEGORIES:Career
END:VEVENT
BEGIN:VEVENT
DTSTART;TZID=America/New_York:20220426T120000
DTEND;TZID=America/New_York:20220426T130000
DTSTAMP:20260425T223725
CREATED:20220414T160829Z
LAST-MODIFIED:20250721T175255Z
UID:19871-1650974400-1650978000@travelers.site.findly.com
SUMMARY:Claim Virtual Career Fair
DESCRIPTION:A free event for all eligible job seekers\, the Claim Virtual Career Fair provides an opportunity to connect virtually with Travelers claim team members to learn more about our Auto and Property Claim organizations and our career opportunities across the country. \nRSVP at the website link listed.
URL:https://travelers.site.findly.com/event/claim-virtual-career-fair-2022-04-26/
LOCATION:Connecticut
CATEGORIES:Career
END:VEVENT
BEGIN:VEVENT
DTSTART;TZID=America/New_York:20220428T150000
DTEND;TZID=America/New_York:20220428T160000
DTSTAMP:20260425T223725
CREATED:20220414T161351Z
LAST-MODIFIED:20250721T175254Z
UID:19875-1651158000-1651161600@travelers.site.findly.com
SUMMARY:Claim Virtual Career Fair
DESCRIPTION:A free event for all eligible job seekers\, the Claim Virtual Career Fair provides an opportunity to connect virtually with Travelers claim team members to learn more about our Auto and Property Claim organizations and our career opportunities across the country. \nRSVP at the website link listed.
URL:https://travelers.site.findly.com/event/claim-virtual-career-fair-2022-04-28/
LOCATION:Connecticut
CATEGORIES:Career
END:VEVENT
END:VCALENDAR